BEGIN:VCALENDAR
VERSION:2.0
PRODID:-//Lion Chasers - ECPv6.15.18//NONSGML v1.0//EN
CALSCALE:GREGORIAN
METHOD:PUBLISH
X-ORIGINAL-URL:https://wechaselions.com
X-WR-CALDESC:Events for Lion Chasers
REFRESH-INTERVAL;VALUE=DURATION:PT1H
X-Robots-Tag:noindex
X-PUBLISHED-TTL:PT1H
BEGIN:VTIMEZONE
TZID:America/New_York
BEGIN:DAYLIGHT
TZOFFSETFROM:-0500
TZOFFSETTO:-0400
TZNAME:EDT
DTSTART:20250309T070000
END:DAYLIGHT
BEGIN:STANDARD
TZOFFSETFROM:-0400
TZOFFSETTO:-0500
TZNAME:EST
DTSTART:20251102T060000
END:STANDARD
BEGIN:DAYLIGHT
TZOFFSETFROM:-0500
TZOFFSETTO:-0400
TZNAME:EDT
DTSTART:20260308T070000
END:DAYLIGHT
BEGIN:STANDARD
TZOFFSETFROM:-0400
TZOFFSETTO:-0500
TZNAME:EST
DTSTART:20261101T060000
END:STANDARD
BEGIN:DAYLIGHT
TZOFFSETFROM:-0500
TZOFFSETTO:-0400
TZNAME:EDT
DTSTART:20270314T070000
END:DAYLIGHT
BEGIN:STANDARD
TZOFFSETFROM:-0400
TZOFFSETTO:-0500
TZNAME:EST
DTSTART:20271107T060000
END:STANDARD
END:VTIMEZONE
BEGIN:VEVENT
DTSTART;TZID=America/New_York:20261010T100000
DTEND;TZID=America/New_York:20261010T180000
DTSTAMP:20260420T045919
CREATED:20251107T002954Z
LAST-MODIFIED:20251107T002954Z
UID:10000054-1791626400-1791655200@wechaselions.com
SUMMARY:L.I.F.T. Success Expo
DESCRIPTION:L.I.F.T. Success Expo (Light\, Inspire\, Fuel\, Transform)\nGet ready to develop your skills\, be inspired\, and make connections at the L.I.F.T. Success Expo! Join us at the APAC – Arbogast Performing Arts Center for a day filled with motivation\, empowerment\, and transformation. This in-person event brings together a powerful combination of nationally-known speakers and local successes to help you and your team Light the fire within\, Inspire you to reach new heights\, Fuel your passions\, and Transform your life. \nThis is not like other conferences you’ve been to. L.I.F.T brings the heat with both mindset\, business\, relationships AND health/physical fitness training. Cheer on the optional live competitions\, or volunteer yourself to see how you stack up! You might even earn one of the high-value awards and give-aways in the process\, to include one-on-one leadership coaching and even fully-paid seats to upcoming Lion Chasers advanced leadership retreats\, and more! \nSeats will sell out! Don’t miss out on this opportunity to connect with like-minded individuals and take your success to the next level! \n \nInstructor Brock Heath\nLIFT Founder\, National Leadership Speaker\, Instructor\, and Author\nAs the creator of the L.I.F.T. Success Expo\, Brock is a nationally sought-after speaker\, author\, and life coach. He was named one of the “Top 100 Leaders of North America” by Dr. John Maxwell. Brock is the founder of Blue Vase Hunters and Lion Chasers Leadership immersion retreats\, which have sparked a movement across the nation\, and also brings the discipline and experience of a U.S. Marine Corps Infantry veteran\, having served three overseas deployments. \n\n\n\nIs lunch provided?Yes! Each attendee ticket does include a lunch provided on-site at the venue.\nIs this designed for men and women?Definitely! The speakers\, instruction\, information\, activities\, and all aspects of the event are designed to inspire and uplift men and women of all ages and in all industries and phases of life and career!\nAre there sponsorship opportunities available?Yes! There are sponsorship opportunities on a variety of levels\, that include group seating\, booth space\, on stage commercials\, and even speaking opportunities! Contact a team member for more information\, or go to the Tickets tab to lock in your spot now!\nWhat is the dress code?Business casual will be the norm\, but if you are one that enjoys friendly competition and think that you may want to volunteer for one of the optional physical challenges to earn bragging rights and awards\, you may want to bring along some comfortable shoes!\nAre the physical competitions mandatory?Absolutely not! Because this expo is a complete life training\, to include leadership\, teamwork\, and physical/health aspects\, there are in-event competitions that will require the volunteers to physically move. These are all optional\, and only those who volunteer will participate in these activities.\nWill there be L.I.F.T. merchandise on site for purchase?Yes! There will be a variety of merchandise\, attire\, and many other items available on site!\nIs parking free?There is free street parking available around the Dayton Convention Center\, as well as paid parking-garage options.\nIs the L.I.F.T. Success Expo fun?Ohhh we’re glad you asked! L.I.F.T. delivers cutting edge training in all areas of life\, a powerful combo of nationally-known speakers AND local successes\, high-energy atmosphere\, live competitions… you will have a BLAST while making lasting impacts on your career\, skills\, health\, mindset\, and life!
URL:https://wechaselions.com/event/l-i-f-t-success-expo-2/
LOCATION:APAC Arbogast Performing Arts Center\, 500 S. Dorset Rd.\, Troy\, 45373\, United States
ATTACH;FMTTYPE=image/png:https://wechaselions.com/wp-content/uploads/2025/11/LIFT-logo.png
ORGANIZER;CN="Brock Heath and Ray Higdon":MAILTO:bheath@bluevasehunters.com
END:VEVENT
END:VCALENDAR